BEGIN:VCALENDAR
VERSION:2.0
PRODID:-//Redscope Primary School - ECPv6.2.8.2//NONSGML v1.0//EN
CALSCALE:GREGORIAN
METHOD:PUBLISH
X-WR-CALNAME:Redscope Primary School
X-ORIGINAL-URL:https://redscopeprimaryschool.co.uk
X-WR-CALDESC:Events for Redscope Primary School
REFRESH-INTERVAL;VALUE=DURATION:PT1H
X-Robots-Tag:noindex
X-PUBLISHED-TTL:PT1H
BEGIN:VTIMEZONE
TZID:UTC
BEGIN:STANDARD
TZOFFSETFROM:+0000
TZOFFSETTO:+0000
TZNAME:UTC
DTSTART:20240101T000000
END:STANDARD
END:VTIMEZONE
BEGIN:VEVENT
DTSTART;VALUE=DATE:20241028
DTEND;VALUE=DATE:20241102
DTSTAMP:20260419T183749
CREATED:20241006T095247Z
LAST-MODIFIED:20241006T100545Z
UID:4230-1730073600-1730505599@redscopeprimaryschool.co.uk
SUMMARY:Half Term
DESCRIPTION:
URL:https://redscopeprimaryschool.co.uk/event/half-term/
END:VEVENT
BEGIN:VEVENT
DTSTART;VALUE=DATE:20241104
DTEND;VALUE=DATE:20241105
DTSTAMP:20260419T183749
CREATED:20241006T095532Z
LAST-MODIFIED:20241006T095532Z
UID:4232-1730678400-1730764799@redscopeprimaryschool.co.uk
SUMMARY:INSET
DESCRIPTION:
URL:https://redscopeprimaryschool.co.uk/event/inset/
END:VEVENT
BEGIN:VEVENT
DTSTART;VALUE=DATE:20241111
DTEND;VALUE=DATE:20241112
DTSTAMP:20260419T183749
CREATED:20241006T095616Z
LAST-MODIFIED:20241006T095616Z
UID:4234-1731283200-1731369599@redscopeprimaryschool.co.uk
SUMMARY:Collect from Class
DESCRIPTION:
URL:https://redscopeprimaryschool.co.uk/event/collect-from-class/
END:VEVENT
BEGIN:VEVENT
DTSTART;VALUE=DATE:20241111
DTEND;VALUE=DATE:20241116
DTSTAMP:20260419T183749
CREATED:20241006T095707Z
LAST-MODIFIED:20241006T095707Z
UID:4236-1731283200-1731715199@redscopeprimaryschool.co.uk
SUMMARY:Anti-bullying Week
DESCRIPTION:
URL:https://redscopeprimaryschool.co.uk/event/anti-bullying-week/
END:VEVENT
BEGIN:VEVENT
DTSTART;VALUE=DATE:20241115
DTEND;VALUE=DATE:20241116
DTSTAMP:20260419T183749
CREATED:20241006T095738Z
LAST-MODIFIED:20241006T095738Z
UID:4238-1731628800-1731715199@redscopeprimaryschool.co.uk
SUMMARY:Children in Need
DESCRIPTION:
URL:https://redscopeprimaryschool.co.uk/event/children-in-need/
END:VEVENT
END:VCALENDAR