BEGIN:VCALENDAR
VERSION:2.0
PRODID:-//Redscope Primary School - ECPv6.2.8.2//NONSGML v1.0//EN
CALSCALE:GREGORIAN
METHOD:PUBLISH
X-WR-CALNAME:Redscope Primary School
X-ORIGINAL-URL:https://redscopeprimaryschool.co.uk
X-WR-CALDESC:Events for Redscope Primary School
REFRESH-INTERVAL;VALUE=DURATION:PT1H
X-Robots-Tag:noindex
X-PUBLISHED-TTL:PT1H
BEGIN:VTIMEZONE
TZID:UTC
BEGIN:STANDARD
TZOFFSETFROM:+0000
TZOFFSETTO:+0000
TZNAME:UTC
DTSTART:20230101T000000
END:STANDARD
END:VTIMEZONE
BEGIN:VEVENT
DTSTART;TZID=UTC:20231213T151000
DTEND;TZID=UTC:20231213T163000
DTSTAMP:20260422T134744
CREATED:20231211T140021Z
LAST-MODIFIED:20231211T140505Z
UID:3363-1702480200-1702485000@redscopeprimaryschool.co.uk
SUMMARY:Christmas Fayre
DESCRIPTION:Christmas Fayre in the hall and in some classrooms 3.10pm – 4.30pm
URL:https://redscopeprimaryschool.co.uk/event/christmas-fayre/
END:VEVENT
BEGIN:VEVENT
DTSTART;VALUE=DATE:20231219
DTEND;VALUE=DATE:20231220
DTSTAMP:20260422T134744
CREATED:20231211T140142Z
LAST-MODIFIED:20231211T140652Z
UID:3365-1702944000-1703030399@redscopeprimaryschool.co.uk
SUMMARY:Christmas Parties for REY\, Clever Kittens\, Reception and KS1 (3\,4\,5\,6)
DESCRIPTION:
URL:https://redscopeprimaryschool.co.uk/event/christmas-parties-for-rey-clever-kittens-reception-and-ks1-3456/
END:VEVENT
BEGIN:VEVENT
DTSTART;VALUE=DATE:20231220
DTEND;VALUE=DATE:20231221
DTSTAMP:20260422T134744
CREATED:20231211T140331Z
LAST-MODIFIED:20231211T140331Z
UID:3367-1703030400-1703116799@redscopeprimaryschool.co.uk
SUMMARY:Christingle Services
DESCRIPTION:
URL:https://redscopeprimaryschool.co.uk/event/christingle-services/
END:VEVENT
BEGIN:VEVENT
DTSTART;VALUE=DATE:20231221
DTEND;VALUE=DATE:20231222
DTSTAMP:20260422T134744
CREATED:20231211T140358Z
LAST-MODIFIED:20231211T140358Z
UID:3369-1703116800-1703203199@redscopeprimaryschool.co.uk
SUMMARY:KS2 Parties
DESCRIPTION:
URL:https://redscopeprimaryschool.co.uk/event/ks2-parties/
END:VEVENT
BEGIN:VEVENT
DTSTART;VALUE=DATE:20231222
DTEND;VALUE=DATE:20231223
DTSTAMP:20260422T134744
CREATED:20231211T140613Z
LAST-MODIFIED:20231211T140613Z
UID:3371-1703203200-1703289599@redscopeprimaryschool.co.uk
SUMMARY:Special visitor due in school. Ho\, Ho\, Ho…
DESCRIPTION:
URL:https://redscopeprimaryschool.co.uk/event/special-visitor-due-in-school-ho-ho-ho/
END:VEVENT
BEGIN:VEVENT
DTSTART;VALUE=DATE:20231225
DTEND;VALUE=DATE:20240106
DTSTAMP:20260422T134744
CREATED:20231211T140734Z
LAST-MODIFIED:20231211T140734Z
UID:3373-1703462400-1704499199@redscopeprimaryschool.co.uk
SUMMARY:Christmas break 25/12/23 – 05/01/24
DESCRIPTION:
URL:https://redscopeprimaryschool.co.uk/event/christmas-break-25-12-23-05-01-24/
END:VEVENT
END:VCALENDAR