BEGIN:VCALENDAR
VERSION:2.0
PRODID:-//Redscope Primary School - ECPv6.2.8.2//NONSGML v1.0//EN
CALSCALE:GREGORIAN
METHOD:PUBLISH
X-WR-CALNAME:Redscope Primary School
X-ORIGINAL-URL:https://redscopeprimaryschool.co.uk
X-WR-CALDESC:Events for Redscope Primary School
REFRESH-INTERVAL;VALUE=DURATION:PT1H
X-Robots-Tag:noindex
X-PUBLISHED-TTL:PT1H
BEGIN:VTIMEZONE
TZID:UTC
BEGIN:STANDARD
TZOFFSETFROM:+0000
TZOFFSETTO:+0000
TZNAME:UTC
DTSTART:20260101T000000
END:STANDARD
END:VTIMEZONE
BEGIN:VEVENT
DTSTART;TZID=UTC:20260423T150000
DTEND;TZID=UTC:20260423T151000
DTSTAMP:20260423T015734
CREATED:20260109T124805Z
LAST-MODIFIED:20260109T124805Z
UID:5385-1776956400-1776957000@redscopeprimaryschool.co.uk
SUMMARY:Collect from Class
DESCRIPTION:
URL:https://redscopeprimaryschool.co.uk/event/collect-from-class-5/
END:VEVENT
END:VCALENDAR