BEGIN:VCALENDAR
VERSION:2.0
PRODID:-//Redscope Primary School - ECPv6.2.8.2//NONSGML v1.0//EN
CALSCALE:GREGORIAN
METHOD:PUBLISH
X-ORIGINAL-URL:https://redscopeprimaryschool.co.uk
X-WR-CALDESC:Events for Redscope Primary School
REFRESH-INTERVAL;VALUE=DURATION:PT1H
X-Robots-Tag:noindex
X-PUBLISHED-TTL:PT1H
BEGIN:VTIMEZONE
TZID:UTC
BEGIN:STANDARD
TZOFFSETFROM:+0000
TZOFFSETTO:+0000
TZNAME:UTC
DTSTART:20240101T000000
END:STANDARD
END:VTIMEZONE
BEGIN:VEVENT
DTSTART;VALUE=DATE:20241218
DTEND;VALUE=DATE:20241219
DTSTAMP:20260419T183920
CREATED:20241006T100735Z
LAST-MODIFIED:20241006T100735Z
UID:4264-1734480000-1734566399@redscopeprimaryschool.co.uk
SUMMARY:Christingle at Church
DESCRIPTION:
URL:https://redscopeprimaryschool.co.uk/event/christingle-at-church/
END:VEVENT
BEGIN:VEVENT
DTSTART;VALUE=DATE:20241218
DTEND;VALUE=DATE:20241219
DTSTAMP:20260419T183920
CREATED:20241006T100805Z
LAST-MODIFIED:20241006T100805Z
UID:4266-1734480000-1734566399@redscopeprimaryschool.co.uk
SUMMARY:Christmas Disco
DESCRIPTION:
URL:https://redscopeprimaryschool.co.uk/event/christmas-disco/
END:VEVENT
END:VCALENDAR