BEGIN:VCALENDAR
VERSION:2.0
PRODID:-//Redscope Primary School - ECPv6.2.8.2//NONSGML v1.0//EN
CALSCALE:GREGORIAN
METHOD:PUBLISH
X-ORIGINAL-URL:https://redscopeprimaryschool.co.uk
X-WR-CALDESC:Events for Redscope Primary School
REFRESH-INTERVAL;VALUE=DURATION:PT1H
X-Robots-Tag:noindex
X-PUBLISHED-TTL:PT1H
BEGIN:VTIMEZONE
TZID:UTC
BEGIN:STANDARD
TZOFFSETFROM:+0000
TZOFFSETTO:+0000
TZNAME:UTC
DTSTART:20240101T000000
END:STANDARD
END:VTIMEZONE
BEGIN:VEVENT
DTSTART;VALUE=DATE:20240603
DTEND;VALUE=DATE:20240615
DTSTAMP:20260420T051414
CREATED:20231211T141648Z
LAST-MODIFIED:20250314T101905Z
UID:3395-1717372800-1718409599@redscopeprimaryschool.co.uk
SUMMARY:Multiplication screening check for Y4 pupils.
DESCRIPTION:Please do not book a holiday during this time of the half term before if your child is in Y4.03/06/24 – 14/06/24
URL:https://redscopeprimaryschool.co.uk/event/multiplication-screening-check-for-y4-pupils/
END:VEVENT
END:VCALENDAR