BEGIN:VCALENDAR
VERSION:2.0
PRODID:-//Redscope Primary School - ECPv6.2.8.2//NONSGML v1.0//EN
CALSCALE:GREGORIAN
METHOD:PUBLISH
X-WR-CALNAME:Redscope Primary School
X-ORIGINAL-URL:https://redscopeprimaryschool.co.uk
X-WR-CALDESC:Events for Redscope Primary School
REFRESH-INTERVAL;VALUE=DURATION:PT1H
X-Robots-Tag:noindex
X-PUBLISHED-TTL:PT1H
BEGIN:VTIMEZONE
TZID:UTC
BEGIN:STANDARD
TZOFFSETFROM:+0000
TZOFFSETTO:+0000
TZNAME:UTC
DTSTART:20240101T000000
END:STANDARD
END:VTIMEZONE
BEGIN:VEVENT
DTSTART;VALUE=DATE:20240329
DTEND;VALUE=DATE:20240413
DTSTAMP:20260422T090457
CREATED:20231211T141140Z
LAST-MODIFIED:20231211T141140Z
UID:3385-1711670400-1712966399@redscopeprimaryschool.co.uk
SUMMARY:Easter break 29/03/24 – 12/04/24
DESCRIPTION:
URL:https://redscopeprimaryschool.co.uk/event/easter-break-29-03-24-12-04-24/
END:VEVENT
END:VCALENDAR