BEGIN:VCALENDAR
VERSION:2.0
PRODID:-//Redscope Primary School - ECPv6.2.8.2//NONSGML v1.0//EN
CALSCALE:GREGORIAN
METHOD:PUBLISH
X-ORIGINAL-URL:https://redscopeprimaryschool.co.uk
X-WR-CALDESC:Events for Redscope Primary School
REFRESH-INTERVAL;VALUE=DURATION:PT1H
X-Robots-Tag:noindex
X-PUBLISHED-TTL:PT1H
BEGIN:VTIMEZONE
TZID:UTC
BEGIN:STANDARD
TZOFFSETFROM:+0000
TZOFFSETTO:+0000
TZNAME:UTC
DTSTART:20240101T000000
END:STANDARD
END:VTIMEZONE
BEGIN:VEVENT
DTSTART;VALUE=DATE:20240212
DTEND;VALUE=DATE:20240217
DTSTAMP:20260422T013834
CREATED:20231211T141011Z
LAST-MODIFIED:20231211T141011Z
UID:3379-1707696000-1708127999@redscopeprimaryschool.co.uk
SUMMARY:February Half term 12/02/24 – 16/02/24
DESCRIPTION:
URL:https://redscopeprimaryschool.co.uk/event/february-half-term-12-02-24-16-02-24/
END:VEVENT
END:VCALENDAR